BEGIN:VCALENDAR
VERSION:2.0
PRODID:-//Plone.org//NONSGML plone.app.event//EN
X-WR-TIMEZONE:Europe/Madrid
BEGIN:VEVENT
SUMMARY:Cosim pel càncer de mama
DTSTART;TZID=Europe/Madrid;VALUE=DATE-TIME:20251019T110000
DTEND;TZID=Europe/Madrid;VALUE=DATE-TIME:20251019T120000
DTSTAMP;VALUE=DATE-TIME:20260420T203809Z
UID:f74480eab314d660aaad9b75c02584df
CREATED;VALUE=DATE-TIME:20251019T000000Z
CATEGORIES:Tallers
LOCATION:Sala d'Actes de la Biblioteca - C. Bonaire, 3
ORGANIZER:COSIM Associació Arenyenca de Fil i Agulla
COMMENT:Preu: Col·laboració 6&euro;
Durada: Fins a les 13h
DESCRIPTION:Taller de costura per joves i adults
URL:https://arenysdemar.cat/document.php?id=48744
END:VEVENT
END:VCALENDAR