BEGIN:VCALENDAR
VERSION:2.0
PRODID:-//Plone.org//NONSGML plone.app.event//EN
X-WR-TIMEZONE:Europe/Madrid
BEGIN:VEVENT
SUMMARY:La Fille Mal Gardée de Ferdinand Hérold.
DTSTART;TZID=Europe/Madrid;VALUE=DATE-TIME:20251105T201500
DTEND;TZID=Europe/Madrid;VALUE=DATE-TIME:20251105T211500
DTSTAMP;VALUE=DATE-TIME:20260425T142155Z
UID:c0f09c185fabd63f1d24b3d76c8af16f
CREATED;VALUE=DATE-TIME:20251105T000000Z
CATEGORIES:Cinema
LOCATION:Teatre Principal - C. Església, 45-47
ORGANIZER:Societat Coral l'Esperança i la Regidoria de Cultura
COMMENT:Preu: 15 anticipada, 17 taquilla
DESCRIPTION:Retransmissió del ballet des de la Royal Opera House de Londres
URL:https://arenysdemar.cat/document.php?id=48779
END:VEVENT
END:VCALENDAR