BEGIN:VCALENDAR
VERSION:2.0
PRODID:-//Plone.org//NONSGML plone.app.event//EN
X-WR-TIMEZONE:Europe/Madrid
BEGIN:VEVENT
SUMMARY:Tertúlia Literària sobre la novel·la negra
DTSTART;TZID=Europe/Madrid;VALUE=DATE-TIME:20251127T193000
DTEND;TZID=Europe/Madrid;VALUE=DATE-TIME:20251127T203000
DTSTAMP;VALUE=DATE-TIME:20260425T125042Z
UID:a338b5689cd262061dc0b460ae8aa7b8
CREATED;VALUE=DATE-TIME:20251127T000000Z
CATEGORIES:Literatura
LOCATION:Sala d'actes de l'Ateneu
ORGANIZER:Secció de Cultura de l'Ateneu
DESCRIPTION:Conduïda per Josep Illa i Ximenes, docent i professor jubilat
URL:https://arenysdemar.cat/document.php?id=48793
END:VEVENT
END:VCALENDAR