BEGIN:VCALENDAR
VERSION:2.0
PRODID:-//Plone.org//NONSGML plone.app.event//EN
X-WR-TIMEZONE:Europe/Madrid
BEGIN:VEVENT
SUMMARY:Actes del 25N. Activitats Dia Internacional contra la violència envers a les dones
DTSTART;TZID=Europe/Madrid;VALUE=DATE-TIME:20251125T183000
DTEND;TZID=Europe/Madrid;VALUE=DATE-TIME:20251125T193000
DTSTAMP;VALUE=DATE-TIME:20260425T051927Z
UID:8bea4facc254f787ebef186193bd8e75
CREATED;VALUE=DATE-TIME:20251125T000000Z
CATEGORIES:Música
LOCATION:Plaça de l'Ajuntament - Riera Bisbe Pol, 8
ORGANIZER:Regidoria d'Igualtat
COMMENT:Preu: Gratuït
DESCRIPTION:Concert de les Dàlia i lectura del manifest
URL:https://arenysdemar.cat/document.php?id=48892
END:VEVENT
END:VCALENDAR