BEGIN:VCALENDAR
VERSION:2.0
PRODID:-//Plone.org//NONSGML plone.app.event//EN
X-WR-TIMEZONE:Europe/Madrid
BEGIN:VEVENT
SUMMARY:Nadal Genial
DTSTART;TZID=Europe/Madrid;VALUE=DATE-TIME:20251228T160000
DTEND;TZID=Europe/Madrid;VALUE=DATE-TIME:20251228T170000
DTSTAMP;VALUE=DATE-TIME:20260424T143728Z
UID:e3136a5844138a65d59f314347eccef9
CREATED;VALUE=DATE-TIME:20251228T000000Z
CATEGORIES:Infantils
LOCATION:Sala '1 d'octubre' del C.C.Calisay - Riera Pare Fita, 31
ORGANIZER:Regidoria d'Infància
COMMENT:Preu: Gratuït
Durada: de 16 a 20 h. també els dies 29 de desembre de 2025, 3 i 4 de gener de 2026
DESCRIPTION:Inflables, jocs de fusta, espectacles, tallers i maquillatge per passar una tarda amb família i amics
URL:https://arenysdemar.cat/document.php?id=48893
END:VEVENT
END:VCALENDAR