BEGIN:VCALENDAR
VERSION:2.0
PRODID:-//Plone.org//NONSGML plone.app.event//EN
X-WR-TIMEZONE:Europe/Madrid
BEGIN:VEVENT
SUMMARY:Constitució Consell d'Infants 2025-26
DTSTART;TZID=Europe/Madrid;VALUE=DATE-TIME:20251120T173000
DTEND;TZID=Europe/Madrid;VALUE=DATE-TIME:20251120T183000
DTSTAMP;VALUE=DATE-TIME:20260424T041125Z
UID:6395d925c4cafcb09d60742c2cecceb9
CREATED;VALUE=DATE-TIME:20251120T000000Z
CATEGORIES:Consells municipals
LOCATION:Sala Josep Maria Arnau del C.C.Calisay - Riera del Pare Fita, 31
ORGANIZER:Regidoria d'Infància i Regidoria d'Educació
URL:https://arenysdemar.cat/document.php?id=48938
END:VEVENT
END:VCALENDAR