BEGIN:VCALENDAR
VERSION:2.0
PRODID:-//Plone.org//NONSGML plone.app.event//EN
X-WR-TIMEZONE:Europe/Madrid
BEGIN:VEVENT
SUMMARY:Impulsem l'habitatge cooperatiu a Arenys de Mar
DTSTART;TZID=Europe/Madrid;VALUE=DATE-TIME:20251119T180000
DTEND;TZID=Europe/Madrid;VALUE=DATE-TIME:20251119T190000
DTSTAMP;VALUE=DATE-TIME:20260423T224714Z
UID:aacf2d18f62ebb041630167e2d0fc744
CREATED;VALUE=DATE-TIME:20251119T000000Z
CATEGORIES:Tallers
LOCATION:Ateneu Arenyenc - Anselm Clavé, 22
ORGANIZER:Ateneu Arenyenc
COMMENT:Durada: Fins a les 19h 30min
DESCRIPTION:a càrrec de La Dinamo
URL:https://arenysdemar.cat/document.php?id=48941
END:VEVENT
END:VCALENDAR