BEGIN:VCALENDAR
VERSION:2.0
PRODID:-//Plone.org//NONSGML plone.app.event//EN
X-WR-TIMEZONE:Europe/Madrid
BEGIN:VEVENT
SUMMARY:Ballada de Nadal amb Carme Gimeno
DTSTART;TZID=Europe/Madrid;VALUE=DATE-TIME:20251221T190000
DTEND;TZID=Europe/Madrid;VALUE=DATE-TIME:20251221T200000
DTSTAMP;VALUE=DATE-TIME:20260420T171132Z
UID:fefce797a12468a632f6ddabbb6034e6
CREATED;VALUE=DATE-TIME:20251221T000000Z
CATEGORIES:Festa
LOCATION:Sala d'actes de l'Ateneu
ORGANIZER:Carme Gimeno i Ateneu Arenyenc
COMMENT:Preu: Preu únic: 5&euro;
DESCRIPTION:Balls per a tothom
URL:https://arenysdemar.cat/document.php?id=48974
END:VEVENT
END:VCALENDAR