BEGIN:VCALENDAR
VERSION:2.0
PRODID:-//Plone.org//NONSGML plone.app.event//EN
X-WR-TIMEZONE:Europe/Madrid
BEGIN:VEVENT
SUMMARY:Curs d´astrologia amb una mirada simbòlica i terapèutica
DTSTART;TZID=Europe/Madrid;VALUE=DATE-TIME:20251207T113000
DTEND;TZID=Europe/Madrid;VALUE=DATE-TIME:20251207T123000
DTSTAMP;VALUE=DATE-TIME:20260419T172123Z
UID:685d593bd94b1f896d379bddbdb1fc91
CREATED;VALUE=DATE-TIME:20251207T000000Z
CATEGORIES:Cursos
LOCATION:La intercultural d'Arenys de Mar
ORGANIZER:Karina Salazar - La intercultural
COMMENT:Preu: Primer mòdul gratuït
Durada: 3 hores
DESCRIPTION:Una introducció progressiva al llenguatge de l´astrologia
URL:https://arenysdemar.cat/document.php?id=48988
END:VEVENT
END:VCALENDAR