BEGIN:VCALENDAR
VERSION:2.0
PRODID:-//Plone.org//NONSGML plone.app.event//EN
X-WR-TIMEZONE:Europe/Madrid
BEGIN:VEVENT
SUMMARY:Taller gratuït de podcasting, blogging i edició de vídeo per a joves i adults
DTSTART;TZID=Europe/Madrid;VALUE=DATE-TIME:20251207T170000
DTEND;TZID=Europe/Madrid;VALUE=DATE-TIME:20251207T180000
DTSTAMP;VALUE=DATE-TIME:20260423T144519Z
UID:eb4c2ed6a1c023ddf6fa9204934eccbf
CREATED;VALUE=DATE-TIME:20251207T000000Z
CATEGORIES:Cursos,Tallers
LOCATION:La intercultural d'Arenys de Mar
ORGANIZER:La intercultural d'Arenys de Mar - Itacat - Llatins per Catalunya
COMMENT:Durada: 2 hores
DESCRIPTION:Imagina't tenir les eines per explicar el teu projecte!
URL:https://arenysdemar.cat/document.php?id=48990
END:VEVENT
END:VCALENDAR