BEGIN:VCALENDAR
VERSION:2.0
PRODID:-//Plone.org//NONSGML plone.app.event//EN
X-WR-TIMEZONE:Europe/Madrid
BEGIN:VEVENT
SUMMARY:Concert de Nadal amb Els Sarita i la Banda de l'EMA
DTSTART;TZID=Europe/Madrid;VALUE=DATE-TIME:20251212T190000
DTEND;TZID=Europe/Madrid;VALUE=DATE-TIME:20251212T200000
DTSTAMP;VALUE=DATE-TIME:20260424T183842Z
UID:47793b502257bb7cb4b2773c173471b5
CREATED;VALUE=DATE-TIME:20251212T000000Z
CATEGORIES:Música
LOCATION:Pati del C.C.Calisay - Riera del Pare Fita, 31
ORGANIZER:Escola Municipal de Música Carles G. Vidiella d'Arenys de Mar
COMMENT:Durada: 1h
DESCRIPTION:dins els actes de la Marató 3CAT
URL:https://arenysdemar.cat/document.php?id=49029
END:VEVENT
END:VCALENDAR