BEGIN:VCALENDAR
VERSION:2.0
PRODID:-//Plone.org//NONSGML plone.app.event//EN
X-WR-TIMEZONE:Europe/Madrid
BEGIN:VEVENT
SUMMARY:Taller d´astrologia amb una mirada terapèutica
DTSTART;TZID=Europe/Madrid;VALUE=DATE-TIME:20260125T103000
DTEND;TZID=Europe/Madrid;VALUE=DATE-TIME:20260125T113000
DTSTAMP;VALUE=DATE-TIME:20260421T032618Z
UID:e1726656f481aa16dd58c3656edf6968
CREATED;VALUE=DATE-TIME:20260125T000000Z
CATEGORIES:Cursos,Conferència,Tallers
LOCATION:La intercultural (Carrer Bareu, 6, Arenys de Mar)
ORGANIZER:La intercultural
COMMENT:Preu: 25 &euro; per sessió | 140 &euro; el curs complet
Durada: De 10.30 a 13.30 h
DESCRIPTION:Curs intensiu i pràctic al simbolisme de la astrologia
URL:https://arenysdemar.cat/document.php?id=49195
END:VEVENT
END:VCALENDAR