BEGIN:VCALENDAR
VERSION:2.0
PRODID:-//Plone.org//NONSGML plone.app.event//EN
X-WR-TIMEZONE:Europe/Madrid
BEGIN:VEVENT
SUMMARY:Botiga al carrer Edició Pasqua
DTSTART;TZID=Europe/Madrid;VALUE=DATE-TIME:20260402T000000
DTEND;TZID=Europe/Madrid;VALUE=DATE-TIME:20260402T010000
DTSTAMP;VALUE=DATE-TIME:20260424T183700Z
UID:f4546aeb10d1cd26ac8a4a0ca1eca4b2
CREATED;VALUE=DATE-TIME:20260402T000000Z
CATEGORIES:Mostra,Tallers
LOCATION:Riera, davant la Plaça de l'Església
ORGANIZER:UBICA i Ajuntament Arenys de Mar
COMMENT:Durada: Tot el dia
DESCRIPTION:Aquesta Setmana Santa troba les millors ofertes a Arenys!
URL:https://arenysdemar.cat/document.php?id=49207
END:VEVENT
END:VCALENDAR