BEGIN:VCALENDAR
VERSION:2.0
PRODID:-//Plone.org//NONSGML plone.app.event//EN
X-WR-TIMEZONE:Europe/Madrid
BEGIN:VEVENT
SUMMARY:Assaig general
DTSTART;TZID=Europe/Madrid;VALUE=DATE-TIME:20260131T193000
DTEND;TZID=Europe/Madrid;VALUE=DATE-TIME:20260131T203000
DTSTAMP;VALUE=DATE-TIME:20260420T152809Z
UID:278ce5cb2d58eb5776511b8444d2952e
CREATED;VALUE=DATE-TIME:20260131T000000Z
CATEGORIES:Teatre
LOCATION:Teatre dels Seràfics
ORGANIZER:Grup Artístic Carles Xena
COMMENT:Preu: General 12 &euro;, anticipada 10 &euro;, socis 7 &euro;, menors de 25 anys 2 &euro;
URL:https://arenysdemar.cat/document.php?id=49223
END:VEVENT
END:VCALENDAR