BEGIN:VCALENDAR
VERSION:2.0
PRODID:-//Plone.org//NONSGML plone.app.event//EN
X-WR-TIMEZONE:Europe/Madrid
BEGIN:VEVENT
SUMMARY:Mercadillu d'en Plaza
DTSTART;TZID=Europe/Madrid;VALUE=DATE-TIME:20260315T090000
DTEND;TZID=Europe/Madrid;VALUE=DATE-TIME:20260315T100000
DTSTAMP;VALUE=DATE-TIME:20260423T192306Z
UID:fb80ba92a4f0d96490b8acc02619d057
CREATED;VALUE=DATE-TIME:20260315T000000Z
CATEGORIES:Festa,Medi ambient
LOCATION:Riera, davant del C.C. Calisay
ORGANIZER:AVAM
COMMENT:Preu: preus populars
Durada: De 9h a 15h
DESCRIPTION:Festa de la reutilització i reciclatge
URL:https://arenysdemar.cat/document.php?id=49227
END:VEVENT
END:VCALENDAR