BEGIN:VCALENDAR
VERSION:2.0
PRODID:-//Plone.org//NONSGML plone.app.event//EN
X-WR-TIMEZONE:Europe/Madrid
BEGIN:VEVENT
SUMMARY:Mercadillu d'en Plaza
DTSTART;TZID=Europe/Madrid;VALUE=DATE-TIME:20260419T000000
DTEND;TZID=Europe/Madrid;VALUE=DATE-TIME:20260419T010000
DTSTAMP;VALUE=DATE-TIME:20260423T175043Z
UID:d5c0303476a1b1e96bedf49c8ff24581
CREATED;VALUE=DATE-TIME:20260419T000000Z
CATEGORIES:Festa,Medi ambient
LOCATION:Riera, davant del C.C. Calisay
ORGANIZER:AVAM
COMMENT:Preu: preus populars
Durada: De 9h a 15h
DESCRIPTION:Festa de la reutilització i reciclatge
URL:https://arenysdemar.cat/document.php?id=49228
END:VEVENT
END:VCALENDAR