BEGIN:VCALENDAR
VERSION:2.0
PRODID:-//Plone.org//NONSGML plone.app.event//EN
X-WR-TIMEZONE:Europe/Madrid
BEGIN:VEVENT
SUMMARY:Mercadillu d'en Plaza
DTSTART;TZID=Europe/Madrid;VALUE=DATE-TIME:20260517T090000
DTEND;TZID=Europe/Madrid;VALUE=DATE-TIME:20260517T100000
DTSTAMP;VALUE=DATE-TIME:20260424T020012Z
UID:58bd059b17b3b95c9aef5206f14d1a92
CREATED;VALUE=DATE-TIME:20260517T000000Z
CATEGORIES:Festa,Medi ambient
LOCATION:Riera, davant del C.C. Calisay
ORGANIZER:AVAM
COMMENT:Preu: preus populars
Durada: De 9h a 15h
DESCRIPTION:Festa de la reutilització i reciclatge
URL:https://arenysdemar.cat/document.php?id=49229
END:VEVENT
END:VCALENDAR