BEGIN:VCALENDAR
VERSION:2.0
PRODID:-//Plone.org//NONSGML plone.app.event//EN
X-WR-TIMEZONE:Europe/Madrid
BEGIN:VEVENT
SUMMARY:Dijous Gras
DTSTART;TZID=Europe/Madrid;VALUE=DATE-TIME:20260212T180000
DTEND;TZID=Europe/Madrid;VALUE=DATE-TIME:20260212T190000
DTSTAMP;VALUE=DATE-TIME:20260423T224811Z
UID:a55c79df3e2a0c437fe844ad866c34f8
CREATED;VALUE=DATE-TIME:20260212T000000Z
CATEGORIES:Festa
LOCATION:Local de la vocalia
ORGANIZER:Vocalia de jubilats
COMMENT:Preu: Socis 10&euro;, No socis 12&euro;
Durada: de 18 a 20h
DESCRIPTION:Berenar
URL:https://arenysdemar.cat/document.php?id=49279
END:VEVENT
END:VCALENDAR