BEGIN:VCALENDAR
VERSION:2.0
PRODID:-//Plone.org//NONSGML plone.app.event//EN
X-WR-TIMEZONE:Europe/Madrid
BEGIN:VEVENT
SUMMARY:Més digitals: Ens protegim en el món digital
DTSTART;TZID=Europe/Madrid;VALUE=DATE-TIME:20260319T100000
DTEND;TZID=Europe/Madrid;VALUE=DATE-TIME:20260319T110000
DTSTAMP;VALUE=DATE-TIME:20260424T145615Z
UID:2f876b5114f9a1ced873fa5cfdb038df
CREATED;VALUE=DATE-TIME:20260319T000000Z
CATEGORIES:Cursos
LOCATION:Sala d'Actes de la Biblioteca - C. Bonaire, 3
ORGANIZER:Biblioteca - Regidoria de Cultura
COMMENT:Preu: Inscripcions a la biblioteca i als telèfons 93.792.32.53 / 93.120.24.36 / 012
DESCRIPTION:Formació digital gratuïta
URL:https://arenysdemar.cat/document.php?id=49292
END:VEVENT
END:VCALENDAR