BEGIN:VCALENDAR
VERSION:2.0
PRODID:-//Plone.org//NONSGML plone.app.event//EN
X-WR-TIMEZONE:Europe/Madrid
BEGIN:VEVENT
SUMMARY:Fira d'Artesania
DTSTART;TZID=Europe/Madrid;VALUE=DATE-TIME:20260503T100000
DTEND;TZID=Europe/Madrid;VALUE=DATE-TIME:20260503T110000
DTSTAMP;VALUE=DATE-TIME:20260426T010023Z
UID:0ffe69845a134299dae1d2dba4fcae8e
CREATED;VALUE=DATE-TIME:20260503T000000Z
CATEGORIES:Mostra
LOCATION:Riera Pare Fita des Ajuntament a Mercat i Riera Pare Fita de Plaça Esglesia Rial sa Clavella
ORGANIZER:Associació Col·leccionisme Nou i Vell (Crisàlide)
COMMENT:Durada: de 10 a 20h
URL:https://arenysdemar.cat/document.php?id=49339
END:VEVENT
END:VCALENDAR