BEGIN:VCALENDAR
VERSION:2.0
PRODID:-//Plone.org//NONSGML plone.app.event//EN
X-WR-TIMEZONE:Europe/Madrid
BEGIN:VEVENT
SUMMARY:Fira de Nadal 2026
DTSTART;TZID=Europe/Madrid;VALUE=DATE-TIME:20261206T100000
DTEND;TZID=Europe/Madrid;VALUE=DATE-TIME:20261206T110000
DTSTAMP;VALUE=DATE-TIME:20260426T024039Z
UID:ab2416c12fa85f9999bd66a01b3f74bd
CREATED;VALUE=DATE-TIME:20261206T000000Z
CATEGORIES:Mostra
LOCATION:Plaça Esglesia i part Riera Bisbe Pol
ORGANIZER:Associació Col·leccionisme Nou i Vell (Crisàlide)
COMMENT:Durada: Dies 6, 7 i 8 Desembre de 10 a 20h
URL:https://arenysdemar.cat/document.php?id=49348
END:VEVENT
END:VCALENDAR