BEGIN:VCALENDAR
VERSION:2.0
PRODID:-//Plone.org//NONSGML plone.app.event//EN
X-WR-TIMEZONE:Europe/Madrid
BEGIN:VEVENT
SUMMARY:Junta de Govern Local
DTSTART;TZID=Europe/Madrid;VALUE=DATE-TIME:20260212T080000
DTEND;TZID=Europe/Madrid;VALUE=DATE-TIME:20260212T090000
DTSTAMP;VALUE=DATE-TIME:20260425T002136Z
UID:2c9ae7d4ec2755b7802bb31ce8c7ab3d
CREATED;VALUE=DATE-TIME:20260212T000000Z
CATEGORIES:Agenda institucional
URL:https://arenysdemar.cat/document.php?id=49416
END:VEVENT
END:VCALENDAR