BEGIN:VCALENDAR
VERSION:2.0
PRODID:-//Plone.org//NONSGML plone.app.event//EN
X-WR-TIMEZONE:Europe/Madrid
BEGIN:VEVENT
SUMMARY:Comissió informativa d'Economia, Hisenda i Administració
DTSTART;TZID=Europe/Madrid;VALUE=DATE-TIME:20260219T173000
DTEND;TZID=Europe/Madrid;VALUE=DATE-TIME:20260219T183000
DTSTAMP;VALUE=DATE-TIME:20260425T002105Z
UID:7678958245db837b889a49bd542aaba0
CREATED;VALUE=DATE-TIME:20260219T000000Z
CATEGORIES:Agenda institucional
URL:https://arenysdemar.cat/document.php?id=49417
END:VEVENT
END:VCALENDAR