BEGIN:VCALENDAR
VERSION:2.0
PRODID:-//Plone.org//NONSGML plone.app.event//EN
X-WR-TIMEZONE:Europe/Madrid
BEGIN:VEVENT
SUMMARY:Junta de Govern Local
DTSTART;TZID=Europe/Madrid;VALUE=DATE-TIME:20260226T080000
DTEND;TZID=Europe/Madrid;VALUE=DATE-TIME:20260226T090000
DTSTAMP;VALUE=DATE-TIME:20260424T202135Z
UID:af3f8418d3824b479bc9d360ec5c4e96
CREATED;VALUE=DATE-TIME:20260226T000000Z
CATEGORIES:Agenda institucional
URL:https://arenysdemar.cat/document.php?id=49418
END:VEVENT
END:VCALENDAR