BEGIN:VCALENDAR
VERSION:2.0
PRODID:-//Plone.org//NONSGML plone.app.event//EN
X-WR-TIMEZONE:Europe/Madrid
BEGIN:VEVENT
SUMMARY:Ple ordinari
DTSTART;TZID=Europe/Madrid;VALUE=DATE-TIME:20260226T180000
DTEND;TZID=Europe/Madrid;VALUE=DATE-TIME:20260226T190000
DTSTAMP;VALUE=DATE-TIME:20260424T205552Z
UID:be7e6224714447172b6e43c94dc2e36b
CREATED;VALUE=DATE-TIME:20260226T000000Z
CATEGORIES:Agenda institucional
URL:https://arenysdemar.cat/document.php?id=49419
END:VEVENT
END:VCALENDAR