BEGIN:VCALENDAR
VERSION:2.0
PRODID:-//Plone.org//NONSGML plone.app.event//EN
X-WR-TIMEZONE:Europe/Madrid
BEGIN:VEVENT
SUMMARY:Exposició: "Volver", històries de mar.
DTSTART;TZID=Europe/Madrid;VALUE=DATE-TIME:20260206T193000
DTEND;TZID=Europe/Madrid;VALUE=DATE-TIME:20260206T203000
DTSTAMP;VALUE=DATE-TIME:20260424T170624Z
UID:b832cd936d9536d66ea6843ff215a9fc
CREATED;VALUE=DATE-TIME:20260206T000000Z
CATEGORIES:Exposició
LOCATION:Sala Exposicions del C.C.Calisay - Riera del Pare Fita, 31
ORGANIZER:Regidoria de Cultura
COMMENT:Preu: Gratuït
Durada: Fins a l'1 de març de 2026
DESCRIPTION:Obra de Maria Virginia Montiel
URL:https://arenysdemar.cat/document.php?id=49499
END:VEVENT
END:VCALENDAR