BEGIN:VCALENDAR
VERSION:2.0
PRODID:-//Plone.org//NONSGML plone.app.event//EN
X-WR-TIMEZONE:Europe/Madrid
BEGIN:VEVENT
SUMMARY:Exposició de pintures
DTSTART;TZID=Europe/Madrid;VALUE=DATE-TIME:20260306T180000
DTEND;TZID=Europe/Madrid;VALUE=DATE-TIME:20260306T190000
DTSTAMP;VALUE=DATE-TIME:20260424T151234Z
UID:affaa6704c9ad96804a59c72b9c72208
CREATED;VALUE=DATE-TIME:20260306T000000Z
CATEGORIES:Exposició
LOCATION:Ateneu Arenyenc - Anselm Clavé, 22
ORGANIZER:Secció de Cultura de L'Ateneu Arenyenc
DESCRIPTION:Fragments d'una vida
URL:https://arenysdemar.cat/document.php?id=49513
END:VEVENT
END:VCALENDAR