BEGIN:VCALENDAR
VERSION:2.0
PRODID:-//Plone.org//NONSGML plone.app.event//EN
X-WR-TIMEZONE:Europe/Madrid
BEGIN:VEVENT
SUMMARY:Dia Internacional de les Dones - 8M
DTSTART;TZID=Europe/Madrid;VALUE=DATE-TIME:20260308T170000
DTEND;TZID=Europe/Madrid;VALUE=DATE-TIME:20260308T180000
DTSTAMP;VALUE=DATE-TIME:20260424T235459Z
UID:656954ea0f71884204bc70443eed0d94
CREATED;VALUE=DATE-TIME:20260308T000000Z
CATEGORIES:Festa
LOCATION:Sala '1 d'octubre' del C.C.Calisay - Riera Pare Fita, 31
ORGANIZER:Regidoria d'Igualtat
COMMENT:Durada: de 17 a 20 h
DESCRIPTION:Activitats  programades des de l'Ajuntament
URL:https://arenysdemar.cat/document.php?id=49555
END:VEVENT
END:VCALENDAR