BEGIN:VCALENDAR
VERSION:2.0
PRODID:-//Plone.org//NONSGML plone.app.event//EN
X-WR-TIMEZONE:Europe/Madrid
BEGIN:VEVENT
SUMMARY:El poble en moviment
DTSTART;TZID=Europe/Madrid;VALUE=DATE-TIME:20260308T180000
DTEND;TZID=Europe/Madrid;VALUE=DATE-TIME:20260308T190000
DTSTAMP;VALUE=DATE-TIME:20260424T223853Z
UID:111b31aad4cf21607248e1bcf057b80b
CREATED;VALUE=DATE-TIME:20260308T000000Z
CATEGORIES:Festa
LOCATION:Sala '1 d'octubre' del C.C.Calisay
ORGANIZER:Regidoria d'Igualtat
COMMENT:Durada: de 18 a 20 h
URL:https://arenysdemar.cat/document.php?id=49556
END:VEVENT
END:VCALENDAR