BEGIN:VCALENDAR
VERSION:2.0
PRODID:-//Plone.org//NONSGML plone.app.event//EN
X-WR-TIMEZONE:Europe/Madrid
BEGIN:VEVENT
SUMMARY:Presentació del llibre: Univers Bilbeny d'en Jordi Bilbeny
DTSTART;TZID=Europe/Madrid;VALUE=DATE-TIME:20260327T190000
DTEND;TZID=Europe/Madrid;VALUE=DATE-TIME:20260327T200000
DTSTAMP;VALUE=DATE-TIME:20260420T193528Z
UID:10813fc66a5f9660be240f1482de9116
CREATED;VALUE=DATE-TIME:20260327T000000Z
CATEGORIES:Literatura
LOCATION:Sala d'Actes de la Biblioteca - C. Bonaire, 3
ORGANIZER:Biblioteca - Regidoria de Cultura
DESCRIPTION:Presentació a càrrec de Joan Marc Passada, Eugènia Carrasco, exdirectora de la revista DDona i escriptora, i David Silvestre, politòleg i divulgador d&rsquo;història.
URL:https://arenysdemar.cat/document.php?id=49557
END:VEVENT
END:VCALENDAR