BEGIN:VCALENDAR
VERSION:2.0
PRODID:-//Plone.org//NONSGML plone.app.event//EN
X-WR-TIMEZONE:Europe/Madrid
BEGIN:VEVENT
SUMMARY:Festa al Pla dels Frares
DTSTART;TZID=Europe/Madrid;VALUE=DATE-TIME:20260828T000000
DTEND;TZID=Europe/Madrid;VALUE=DATE-TIME:20260828T010000
DTSTAMP;VALUE=DATE-TIME:20260425T124242Z
UID:f1c0158ef8d051f4d490b09967de7223
CREATED;VALUE=DATE-TIME:20260828T000000Z
CATEGORIES:Festa
LOCATION:al Pla dels Frares
ORGANIZER:Comissió de festes del Pla dels Frares
COMMENT:Durada: Fins al 30 d'agost de 2025
URL:https://arenysdemar.cat/document.php?id=49561
END:VEVENT
END:VCALENDAR