BEGIN:VCALENDAR
VERSION:2.0
PRODID:-//Plone.org//NONSGML plone.app.event//EN
X-WR-TIMEZONE:Europe/Madrid
BEGIN:VEVENT
SUMMARY:Festa a la Travessera de la Mina
DTSTART;TZID=Europe/Madrid;VALUE=DATE-TIME:20260905T000000
DTEND;TZID=Europe/Madrid;VALUE=DATE-TIME:20260905T010000
DTSTAMP;VALUE=DATE-TIME:20260425T122916Z
UID:f2f408a40d0b642daec8cee22e6da6c2
CREATED;VALUE=DATE-TIME:20260905T000000Z
CATEGORIES:Festa
LOCATION:a la Travessera de la Mina
ORGANIZER:Comissió de festes de la Travessera de la Mina
DESCRIPTION:Sopar de veïns
URL:https://arenysdemar.cat/document.php?id=49567
END:VEVENT
END:VCALENDAR