BEGIN:VCALENDAR
VERSION:2.0
PRODID:-//Plone.org//NONSGML plone.app.event//EN
X-WR-TIMEZONE:Europe/Madrid
BEGIN:VEVENT
SUMMARY:Taller d'oratòria per a adults i adolescents
DTSTART;TZID=Europe/Madrid;VALUE=DATE-TIME:20260419T170000
DTEND;TZID=Europe/Madrid;VALUE=DATE-TIME:20260419T180000
DTSTAMP;VALUE=DATE-TIME:20260424T083156Z
UID:7aa447981efbbbf4e183821c5ba43263
CREATED;VALUE=DATE-TIME:20260419T000000Z
CATEGORIES:Tallers
LOCATION:La intercultural (Carrer Bonaire, 6, Arenys de Mar)
ORGANIZER:La intercultural
COMMENT:Preu: 30 euros per tot el curs
Durada: Dates: 19 i 26 d'abril i 3, 10, 17 i 24 de maig del 2026. Durada: 90 minuts intensius i pràctics per sessió
DESCRIPTION:Aprèn a parlar en públic
URL:https://arenysdemar.cat/document.php?id=49575
END:VEVENT
END:VCALENDAR