BEGIN:VCALENDAR
VERSION:2.0
PRODID:-//Plone.org//NONSGML plone.app.event//EN
X-WR-TIMEZONE:Europe/Madrid
BEGIN:VEVENT
SUMMARY:Taller d'escriptura creativa
DTSTART;TZID=Europe/Madrid;VALUE=DATE-TIME:20260319T180000
DTEND;TZID=Europe/Madrid;VALUE=DATE-TIME:20260319T190000
DTSTAMP;VALUE=DATE-TIME:20260424T101312Z
UID:ab162097d005d745353606e2ed5fd181
CREATED;VALUE=DATE-TIME:20260319T000000Z
CATEGORIES:Tallers
LOCATION:La intercultural (Carrer Bonaire, 6, Arenys de Mar)
ORGANIZER:La intercultural
COMMENT:Preu: 70 euros / 4 sessions
Durada: Dates: tots els dijous a la tarda, de 18 a 20 h.
DESCRIPTION:Per a totes les edats
URL:https://arenysdemar.cat/document.php?id=49576
END:VEVENT
END:VCALENDAR