BEGIN:VCALENDAR
VERSION:2.0
PRODID:-//Plone.org//NONSGML plone.app.event//EN
X-WR-TIMEZONE:Europe/Madrid
BEGIN:VEVENT
SUMMARY:Taller de pintura creativa
DTSTART;TZID=Europe/Madrid;VALUE=DATE-TIME:20260318T180000
DTEND;TZID=Europe/Madrid;VALUE=DATE-TIME:20260318T190000
DTSTAMP;VALUE=DATE-TIME:20260424T083226Z
UID:d1026d56fde33d3144d8fe7b890a4640
CREATED;VALUE=DATE-TIME:20260318T000000Z
CATEGORIES:Tallers
LOCATION:La intercultural (Carrer Bonaire, 6, Arenys de Mar)
ORGANIZER:La intercultural
COMMENT:Preu: 60 euros al mes (material inclòs)
Durada: Tres horaris possibles: els dimecres a les 18.00 h; els dijous a les 10.00 h o els divendres a les 10.00 h. Les classes duren una hora i mitja.
DESCRIPTION:Per a joves i adults
URL:https://arenysdemar.cat/document.php?id=49577
END:VEVENT
END:VCALENDAR