BEGIN:VCALENDAR
VERSION:2.0
PRODID:-//Plone.org//NONSGML plone.app.event//EN
X-WR-TIMEZONE:Europe/Madrid
BEGIN:VEVENT
SUMMARY:Taller de fotografia creativa
DTSTART;TZID=Europe/Madrid;VALUE=DATE-TIME:20260412T100000
DTEND;TZID=Europe/Madrid;VALUE=DATE-TIME:20260412T110000
DTSTAMP;VALUE=DATE-TIME:20260424T115527Z
UID:ac8bfcfcbd01ae875de53edb1d426083
CREATED;VALUE=DATE-TIME:20260412T000000Z
CATEGORIES:Tallers
LOCATION:La intercultural (Carrer Bareu, 6, Arenys de Mar)
ORGANIZER:Clara Ferrer Pérez i La Intercultural
COMMENT:Preu: 60 &euro; les 9 classes
Durada: Dates: 12, 26 abril 2026; 10, 17, 24 i 31 de maig 2026; 7, 14 i 21 de juny 2026 (classes contínues)
DESCRIPTION:Per conèixer la tècnica i treballar la mirada
URL:https://arenysdemar.cat/document.php?id=49578
END:VEVENT
END:VCALENDAR