BEGIN:VCALENDAR
VERSION:2.0
PRODID:-//Plone.org//NONSGML plone.app.event//EN
X-WR-TIMEZONE:Europe/Madrid
BEGIN:VEVENT
SUMMARY:Taller familiar de primavera: La màgia dels colors
DTSTART;TZID=Europe/Madrid;VALUE=DATE-TIME:20260429T180000
DTEND;TZID=Europe/Madrid;VALUE=DATE-TIME:20260429T190000
DTSTAMP;VALUE=DATE-TIME:20260425T053035Z
UID:d338e471d79d34f24505751fd0af20bd
CREATED;VALUE=DATE-TIME:20260429T000000Z
CATEGORIES:Infantils,Tallers
LOCATION:Sala d'Actes de la Biblioteca - C. Bonaire, 3
ORGANIZER:Biblioteca - Regidoria de Cultura
COMMENT:Preu: Cal inscripció prèvia a la biblioteca, per telèfon (93.792.32.53) o correu electrònic (b.arenysma.pff@diba.cat). Places limitades
DESCRIPTION:a càrrec de l'Anna Danés. Activitat recomanada per a infants de 4 a 9 anys
URL:https://arenysdemar.cat/document.php?id=49580
END:VEVENT
END:VCALENDAR