BEGIN:VCALENDAR
VERSION:2.0
PRODID:-//Plone.org//NONSGML plone.app.event//EN
X-WR-TIMEZONE:Europe/Madrid
BEGIN:VEVENT
SUMMARY:47ª Marxa Trail d'Arenys de Mar
DTSTART;TZID=Europe/Madrid;VALUE=DATE-TIME:20260531T083000
DTEND;TZID=Europe/Madrid;VALUE=DATE-TIME:20260531T093000
DTSTAMP;VALUE=DATE-TIME:20260424T015731Z
UID:b2014a68884f08dbd90d11f86ccc213c
CREATED;VALUE=DATE-TIME:20260531T000000Z
CATEGORIES:Esports
LOCATION:Parc de Lurdes - c/ de les Doedes 1
ORGANIZER:Penya Apa Anem-hi
COMMENT:Preu: 13 &euro;
URL:https://arenysdemar.cat/document.php?id=49788
END:VEVENT
END:VCALENDAR