BEGIN:VCALENDAR
VERSION:2.0
PRODID:-//Plone.org//NONSGML plone.app.event//EN
X-WR-TIMEZONE:Europe/Madrid
BEGIN:VEVENT
SUMMARY:Lliurament de Premis del 54è Concurs de Grups de Teatre Amateur Premi Vila Arenys de Mar
DTSTART;TZID=Europe/Madrid;VALUE=DATE-TIME:20260425T180000
DTEND;TZID=Europe/Madrid;VALUE=DATE-TIME:20260425T190000
DTSTAMP;VALUE=DATE-TIME:20260424T161802Z
UID:515e916ddb5b4b1c86b06ca42a17f31d
CREATED;VALUE=DATE-TIME:20260425T000000Z
CATEGORIES:Teatre
LOCATION:Teatre Seràfics
DESCRIPTION:Cerimonia de lliurament de premi
URL:https://arenysdemar.cat/document.php?id=49807
END:VEVENT
END:VCALENDAR