BEGIN:VCALENDAR
VERSION:2.0
PRODID:-//Plone.org//NONSGML plone.app.event//EN
X-WR-TIMEZONE:Europe/Madrid
BEGIN:VEVENT
SUMMARY:30è aniversari de viatges Sakkara
DTSTART;TZID=Europe/Madrid;VALUE=DATE-TIME:20260424T190000
DTEND;TZID=Europe/Madrid;VALUE=DATE-TIME:20260424T200000
DTSTAMP;VALUE=DATE-TIME:20260421T030850Z
UID:acfbc3155f24f8931e8556925172a3af
CREATED;VALUE=DATE-TIME:20260424T000000Z
CATEGORIES:Festa,Conferència
LOCATION:Ateneu Arenyenc - Anselm Clavé, 22
COMMENT:Preu: Entrada lliure
DESCRIPTION:Vine a celebrar-ho amb nosaltres!
URL:https://arenysdemar.cat/document.php?id=49808
END:VEVENT
END:VCALENDAR