BEGIN:VCALENDAR
VERSION:2.0
PRODID:-//Plone.org//NONSGML plone.app.event//EN
X-WR-TIMEZONE:Europe/Madrid
BEGIN:VEVENT
SUMMARY:Festa a la Plaça Flos i Calcat
DTSTART;TZID=Europe/Madrid;VALUE=DATE-TIME:20260725T000000
DTEND;TZID=Europe/Madrid;VALUE=DATE-TIME:20260725T010000
DTSTAMP;VALUE=DATE-TIME:20260421T121557Z
UID:862960b229b52ff53095cbdd8b7ab446
CREATED;VALUE=DATE-TIME:20260725T000000Z
CATEGORIES:Festa
LOCATION:a la Plaça Flos i Calcat
ORGANIZER:Comissió de festes de la Plaça Flos i Calcat
DESCRIPTION:Sopar de germanor
URL:https://arenysdemar.cat/document.php?id=49810
END:VEVENT
END:VCALENDAR