BEGIN:VCALENDAR
VERSION:2.0
PRODID:-//Plone.org//NONSGML plone.app.event//EN
X-WR-TIMEZONE:Europe/Madrid
BEGIN:VEVENT
SUMMARY:Festa a la Plaça Sa Boada
DTSTART;TZID=Europe/Madrid;VALUE=DATE-TIME:20260821T000000
DTEND;TZID=Europe/Madrid;VALUE=DATE-TIME:20260821T010000
DTSTAMP;VALUE=DATE-TIME:20260421T110450Z
UID:3895f78f438b6fc69deeeccf1e73ba94
CREATED;VALUE=DATE-TIME:20260821T000000Z
CATEGORIES:Festa
LOCATION:Plaça Sa Boada
ORGANIZER:Comissió de festes de la Plaça Sa Boada
COMMENT:Durada: Fins al 23 d'agost de 2026
URL:https://arenysdemar.cat/document.php?id=49811
END:VEVENT
END:VCALENDAR