BEGIN:VCALENDAR
VERSION:2.0
PRODID:-//Plone.org//NONSGML plone.app.event//EN
X-WR-TIMEZONE:Europe/Madrid
BEGIN:VEVENT
SUMMARY:Ball del dissabte
DTSTART;TZID=Europe/Madrid;VALUE=DATE-TIME:20260606T213000
DTEND;TZID=Europe/Madrid;VALUE=DATE-TIME:20260606T223000
DTSTAMP;VALUE=DATE-TIME:20260424T180358Z
UID:ab43836dfbdabcff8ab858913feff06c
CREATED;VALUE=DATE-TIME:20260606T000000Z
CATEGORIES:Música
LOCATION:Ateneu Arenyenc - Anselm Clavé, 22
ORGANIZER:Secció de ball de L'Ateneu Arenyenc
COMMENT:Preu: Soci i Acompanyant: 8  persona, general 10 
DESCRIPTION:Actuació del Duet Xada
URL:https://arenysdemar.cat/document.php?id=49825
END:VEVENT
END:VCALENDAR