BEGIN:VCALENDAR
VERSION:2.0
PRODID:-//Plone.org//NONSGML plone.app.event//EN
X-WR-TIMEZONE:Europe/Madrid
BEGIN:VEVENT
SUMMARY:Lagunas de Ruidera -Ossa de Montiel (La Mancha)
DTSTART;TZID=Europe/Madrid;VALUE=DATE-TIME:20260608T080000
DTEND;TZID=Europe/Madrid;VALUE=DATE-TIME:20260608T090000
DTSTAMP;VALUE=DATE-TIME:20260424T125035Z
UID:cab6521257190fb9eaec75d5d7af06e4
CREATED;VALUE=DATE-TIME:20260608T000000Z
CATEGORIES:Visita guiada
LOCATION:Esplai/C.C.Calisay - Riera del Pare Fita, 31
ORGANIZER:Esplai de la Gent Gran d´Arenys de Mar
COMMENT:Preu: Socis 400 &euro; No socis 410&euro;
Durada: 4 nits 5 dies
DESCRIPTION:Dies 8,9,10,11 i 12 Juny
URL:https://arenysdemar.cat/document.php?id=49826
END:VEVENT
END:VCALENDAR