BEGIN:VCALENDAR
VERSION:2.0
PRODID:-//Plone.org//NONSGML plone.app.event//EN
X-WR-TIMEZONE:Europe/Madrid
BEGIN:VEVENT
SUMMARY:Netegem els rials d'Arenys!
DTSTART;TZID=Europe/Madrid;VALUE=DATE-TIME:20260510T100000
DTEND;TZID=Europe/Madrid;VALUE=DATE-TIME:20260510T110000
DTSTAMP;VALUE=DATE-TIME:20260424T125021Z
UID:a3db4d58f10530099ac33d3963ba602a
CREATED;VALUE=DATE-TIME:20260510T000000Z
CATEGORIES:Medi ambient
LOCATION:Punt de trobada: davant de l'Escola Joan Maragall
ORGANIZER:Plataforma en Defensa del Territori Arenyenc
COMMENT:Durada: de 10h a 12:30h, aproximadament
DESCRIPTION:Neteja de residus i espècies invasores al Rial del Sapí i al Rial de Sa Clavella
URL:https://arenysdemar.cat/document.php?id=49827
END:VEVENT
END:VCALENDAR