BEGIN:VCALENDAR
VERSION:2.0
PRODID:-//Plone.org//NONSGML plone.app.event//EN
X-WR-TIMEZONE:Europe/Madrid
BEGIN:VEVENT
SUMMARY:Festa al carrer Tossol (Antoni Torrent)
DTSTART;TZID=Europe/Madrid;VALUE=DATE-TIME:20260605T000000
DTEND;TZID=Europe/Madrid;VALUE=DATE-TIME:20260605T010000
DTSTAMP;VALUE=DATE-TIME:20260424T154826Z
UID:28b86430a21c1967af784d8375028fbd
CREATED;VALUE=DATE-TIME:20260605T000000Z
CATEGORIES:Festa
LOCATION:al carrer Tossol
ORGANIZER:Comissió de Festes del carrer Tossol
COMMENT:Durada: Fins al 7 de juny de 2026
URL:https://arenysdemar.cat/document.php?id=49828
END:VEVENT
END:VCALENDAR